BEGIN:VCALENDAR
VERSION:2.0
PRODID:-//Ski Club Monthey - ECPv6.0.9//NONSGML v1.0//EN
CALSCALE:GREGORIAN
METHOD:PUBLISH
X-ORIGINAL-URL:https://skiclub-monthey.ch
X-WR-CALDESC:évènements pour Ski Club Monthey
REFRESH-INTERVAL;VALUE=DURATION:PT1H
X-Robots-Tag:noindex
X-PUBLISHED-TTL:PT1H
BEGIN:VTIMEZONE
TZID:Europe/Zurich
BEGIN:DAYLIGHT
TZOFFSETFROM:+0100
TZOFFSETTO:+0200
TZNAME:CEST
DTSTART:20170326T010000
END:DAYLIGHT
BEGIN:STANDARD
TZOFFSETFROM:+0200
TZOFFSETTO:+0100
TZNAME:CET
DTSTART:20171029T010000
END:STANDARD
END:VTIMEZONE
BEGIN:VEVENT
DTSTART;VALUE=DATE:20171202
DTEND;VALUE=DATE:20171203
DTSTAMP:20260421T223913
CREATED:20171101T194058Z
LAST-MODIFIED:20171101T194726Z
UID:645-1512172800-1512259199@skiclub-monthey.ch
SUMMARY:Préparation (Salle/patinoire)
DESCRIPTION:
URL:https://skiclub-monthey.ch/event/preparation-sallepatinoire/
CATEGORIES:Pré-saison
END:VEVENT
BEGIN:VEVENT
DTSTART;VALUE=DATE:20171209
DTEND;VALUE=DATE:20171210
DTSTAMP:20260421T223913
CREATED:20171101T194441Z
LAST-MODIFIED:20171101T195519Z
UID:647-1512777600-1512863999@skiclub-monthey.ch
SUMMARY:Préparation (Salle/patinoire)
DESCRIPTION:
URL:https://skiclub-monthey.ch/event/sallepatinoire/
CATEGORIES:Pré-saison
END:VEVENT
BEGIN:VEVENT
DTSTART;VALUE=DATE:20171216
DTEND;VALUE=DATE:20171217
DTSTAMP:20260421T223913
CREATED:20171101T195631Z
LAST-MODIFIED:20171101T195631Z
UID:679-1513382400-1513468799@skiclub-monthey.ch
SUMMARY:Préparation (Salle/patinoire)
DESCRIPTION:
URL:https://skiclub-monthey.ch/event/preparation-sallepatinoire-3/
CATEGORIES:Pré-saison
END:VEVENT
BEGIN:VEVENT
DTSTART;VALUE=DATE:20171223
DTEND;VALUE=DATE:20171224
DTSTAMP:20260421T223913
CREATED:20171101T195550Z
LAST-MODIFIED:20171101T195740Z
UID:677-1513987200-1514073599@skiclub-monthey.ch
SUMMARY:Préparation (Salle/patinoire)
DESCRIPTION:
URL:https://skiclub-monthey.ch/event/preparation-sallepatinoire-2/
CATEGORIES:Pré-saison
END:VEVENT
BEGIN:VEVENT
DTSTART;VALUE=DATE:20171227
DTEND;VALUE=DATE:20171229
DTSTAMP:20260421T223913
CREATED:20171101T195658Z
LAST-MODIFIED:20171101T195710Z
UID:681-1514332800-1514505599@skiclub-monthey.ch
SUMMARY:Ski
DESCRIPTION:
URL:https://skiclub-monthey.ch/event/ski/
CATEGORIES:Ski accompagné
END:VEVENT
BEGIN:VEVENT
DTSTART;VALUE=DATE:20171230
DTEND;VALUE=DATE:20171231
DTSTAMP:20260421T223913
CREATED:20171101T195814Z
LAST-MODIFIED:20171101T195814Z
UID:683-1514592000-1514678399@skiclub-monthey.ch
SUMMARY:Ski
DESCRIPTION:
URL:https://skiclub-monthey.ch/event/ski-2/
CATEGORIES:Ski accompagné
END:VEVENT
END:VCALENDAR